BEGIN:VCALENDAR
VERSION:2.0
PRODID:-//Contratero//ES
CALSCALE:GREGORIAN
METHOD:PUBLISH
BEGIN:VEVENT
UID:MAD-2021-09-30 AMS ANALITICA DATOS (5-41866)@contratero.es
DTSTAMP:20260419T183915Z
DTSTART:20211105T235959
DTEND:20211106T005959
SUMMARY:Cierre: Prestación de servicios para la realización de tar
DESCRIPTION:Prestación de servicios para la realización de tareas asociadas a la Analítica de Datos\\n\\nOrganismo: Comité Central de Compras de Navantia S.A.\, S.M.E.\\n\\nVer en Contratero: https://contratero.es/contracts/MAD-2021-09-30 AMS ANALITICA DATOS (5-41866)
URL:https://contratero.es/contracts/MAD-2021-09-30 AMS ANALITICA DATOS (5-41866)
STATUS:CONFIRMED
BEGIN:VALARM
TRIGGER:-P1D
ACTION:DISPLAY
DESCRIPTION:Recordatorio: Prestación de servicios para l
END:VALARM
END:VEVENT
END:VCALENDAR